BEGIN:VCALENDAR
VERSION:2.0
PRODID:-//Samba-RuhrgeBeat.de - ECPv6.0.10//NONSGML v1.0//EN
CALSCALE:GREGORIAN
METHOD:PUBLISH
X-ORIGINAL-URL:https://samba-ruhrgebeat.de
X-WR-CALDESC:Veranstaltungen für Samba-RuhrgeBeat.de
REFRESH-INTERVAL;VALUE=DURATION:PT1H
X-Robots-Tag:noindex
X-PUBLISHED-TTL:PT1H
BEGIN:VTIMEZONE
TZID:UTC
BEGIN:STANDARD
TZOFFSETFROM:+0000
TZOFFSETTO:+0000
TZNAME:UTC
DTSTART:20240101T000000
END:STANDARD
END:VTIMEZONE
BEGIN:VEVENT
DTSTART;TZID=UTC:20240601T120000
DTEND;TZID=UTC:20240601T140000
DTSTAMP:20260422T070249
CREATED:20240405T084028Z
LAST-MODIFIED:20240531T132834Z
UID:1729-1717243200-1717250400@samba-ruhrgebeat.de
SUMMARY:Sambakowsi & Das Samba-Syndikat Demo gegen Rassismus\, Armut und Ausgrenzung\, Bochum
DESCRIPTION:Wir spielen in eine mixed Besetzung auf dieser Demo. \nBeginn auf dem Dr.Ruer Platz weiter bis zum Schauspielhaus.
URL:https://samba-ruhrgebeat.de/event/sambakowsi-das-samba-syndikat-demo-gegen-rassismus-armut-und-ausgrenzung/
LOCATION:Dr. Ruer Patz\, Bochum
ATTACH;FMTTYPE=image/jpeg:https://samba-ruhrgebeat.de/wp-content/uploads/2019/03/Bateria-Anti-Racismo.jpg
END:VEVENT
END:VCALENDAR