BEGIN:VCALENDAR
VERSION:2.0
PRODID:-//Samba-RuhrgeBeat.de - ECPv6.0.10//NONSGML v1.0//EN
CALSCALE:GREGORIAN
METHOD:PUBLISH
X-ORIGINAL-URL:https://samba-ruhrgebeat.de
X-WR-CALDESC:Veranstaltungen für Samba-RuhrgeBeat.de
REFRESH-INTERVAL;VALUE=DURATION:PT1H
X-Robots-Tag:noindex
X-PUBLISHED-TTL:PT1H
BEGIN:VTIMEZONE
TZID:UTC
BEGIN:STANDARD
TZOFFSETFROM:+0000
TZOFFSETTO:+0000
TZNAME:UTC
DTSTART:20240101T000000
END:STANDARD
END:VTIMEZONE
BEGIN:VEVENT
DTSTART;TZID=UTC:20240611T100000
DTEND;TZID=UTC:20240611T100000
DTSTAMP:20260422T071848
CREATED:20230831T152556Z
LAST-MODIFIED:20240531T134904Z
UID:1579-1718100000-1718100000@samba-ruhrgebeat.de
SUMMARY:Else Hirsch Förderschule - Bochum - Landesprogramm "Kultur und Schule"
DESCRIPTION:Mit einer kleinen Schulklasse wird in regelmäßigen Proben ein mehrstimmiges Trommelstück mit Cajons\, Djembes\, Shakern und Basstrommel erarbeitet\, \nund zur Aufführung gebracht…. \nEine Veranstaltung im Rahmen des Landesprogramms „Kultur und Schule“.
URL:https://samba-ruhrgebeat.de/event/else-hirsch-foerderschule/
LOCATION:Else Hirsch Förderschule\, Hegelstraße 6\, Bochum\, 44805
ATTACH;FMTTYPE=image/jpeg:https://samba-ruhrgebeat.de/wp-content/uploads/2023/02/DSC_0196-scaled.jpg
END:VEVENT
BEGIN:VEVENT
DTSTART;TZID=UTC:20240611T100000
DTEND;TZID=UTC:20240613T120000
DTSTAMP:20260422T071848
CREATED:20230913T131609Z
LAST-MODIFIED:20250519T133638Z
UID:1598-1718100000-1718280000@samba-ruhrgebeat.de
SUMMARY:Kultur und Schule an der Rahmstr. in Essen
DESCRIPTION:Mit den Kindern eines 4.Schuljahres wird ein Trommelstück aus Afrika erarbeitet und am letzten Tag in der Schule aufgeführt. \nDies ist ein Teil des Kultur und Schule- Landesprogramms NRW.
URL:https://samba-ruhrgebeat.de/event/trommel-projekttage-schule-an-der-rahmstr-in-essen/
ATTACH;FMTTYPE=image/jpeg:https://samba-ruhrgebeat.de/wp-content/uploads/2020/06/Odehekids-3.jpg
END:VEVENT
END:VCALENDAR