BEGIN:VCALENDAR
VERSION:2.0
PRODID:-//Samba-RuhrgeBeat.de - ECPv6.0.10//NONSGML v1.0//EN
CALSCALE:GREGORIAN
METHOD:PUBLISH
X-WR-CALNAME:Samba-RuhrgeBeat.de
X-ORIGINAL-URL:https://samba-ruhrgebeat.de
X-WR-CALDESC:Veranstaltungen für Samba-RuhrgeBeat.de
REFRESH-INTERVAL;VALUE=DURATION:PT1H
X-Robots-Tag:noindex
X-PUBLISHED-TTL:PT1H
BEGIN:VTIMEZONE
TZID:UTC
BEGIN:STANDARD
TZOFFSETFROM:+0000
TZOFFSETTO:+0000
TZNAME:UTC
DTSTART:20240101T000000
END:STANDARD
END:VTIMEZONE
BEGIN:VEVENT
DTSTART;TZID=UTC:20240625T120000
DTEND;TZID=UTC:20240625T133000
DTSTAMP:20260422T070142
CREATED:20230107T122145Z
LAST-MODIFIED:20240609T100549Z
UID:1305-1719316800-1719322200@samba-ruhrgebeat.de
SUMMARY:Landesprogramm Kultur & Schule – Sunderplatz\, Mülheim an der Ruhr
DESCRIPTION:Trommelprojekte in Schule finden wöchentlich statt! \nAb dem 4. Schuljahr…Ein „Kultur und Schule Projekt“ desw Landes NRW! \nMit der gesamten Schulklasse wird der Rhythmus „Kpanlogo“ aus Ghana\, mehrstimmig\, über das Schuljahr erarbeitet. \nInstrumente: Djembes\, Basstrommeln\, Cajons und Shaker.
URL:https://samba-ruhrgebeat.de/event/kultur-schule-sunderplatz-mh/
ATTACH;FMTTYPE=image/jpeg:https://samba-ruhrgebeat.de/wp-content/uploads/2023/01/Odehekids-3.jpg
END:VEVENT
BEGIN:VEVENT
DTSTART;TZID=UTC:20240625T190000
DTEND;TZID=UTC:20240625T190000
DTSTAMP:20260422T070142
CREATED:20230913T130552Z
LAST-MODIFIED:20240609T100730Z
UID:1589-1719342000-1719342000@samba-ruhrgebeat.de
SUMMARY:Abschluss Trommelkurs - Groove Mix: Djembe\, Conga\, Cajon und Co.
DESCRIPTION:Für Trommler*innen mit Vorkenntnissen\nIn diesem Kurs entstehen Rhythmen und Trommelstücke mit einem breit gefächerten Instrumentarium der Trommelkulturen Westafrikas\, der Karibik und Brasilien. Für alle die schon einmal Trommel-Workshops und Kurse besucht haben und wieder einsteigen möchten\, oder einfach in schöner Atmosphäre mit anderen zusammen Grooven wollen! Hier seid ihr richtig\, denn in diesem Kurs werden eure bereits vorhandenen Fähigkeiten weiterentwickelt und musikalisch zu kleinen Arrangements verarbeitet.                                                                                                                                                                                                                                                                                  Natürlich wird auch an eurer Spieltechnik für die verschiedenen Trommeln gefeilt: Es soll ja schließlich gut klingen. \nInstrumente stehen zur Verfügung\, können aber gerne auch mitgebracht werden.                                                                                                                                                                                                                                                                     Der Kurs findet 14-tägig an 5 Terminen statt!
URL:https://samba-ruhrgebeat.de/event/trommelkurs-groove-mix-djembe-conga-cajon-und-co-4/
LOCATION:Samba-Ruhrgebeat / Europa Pavillon\, 45479 Mülheim an der Ruhr\, Am Schloß Broich 34\, Mülheim an der Ruhr\, 45479
ATTACH;FMTTYPE=image/jpeg:https://samba-ruhrgebeat.de/wp-content/uploads/2023/09/DSC_0001-scaled.jpg
END:VEVENT
END:VCALENDAR