BEGIN:VCALENDAR
VERSION:2.0
PRODID:-//Samba-RuhrgeBeat.de - ECPv6.0.10//NONSGML v1.0//EN
CALSCALE:GREGORIAN
METHOD:PUBLISH
X-WR-CALNAME:Samba-RuhrgeBeat.de
X-ORIGINAL-URL:https://samba-ruhrgebeat.de
X-WR-CALDESC:Veranstaltungen für Samba-RuhrgeBeat.de
REFRESH-INTERVAL;VALUE=DURATION:PT1H
X-Robots-Tag:noindex
X-PUBLISHED-TTL:PT1H
BEGIN:VTIMEZONE
TZID:UTC
BEGIN:STANDARD
TZOFFSETFROM:+0000
TZOFFSETTO:+0000
TZNAME:UTC
DTSTART:20240101T000000
END:STANDARD
END:VTIMEZONE
BEGIN:VEVENT
DTSTART;TZID=UTC:20240702T190000
DTEND;TZID=UTC:20240702T210000
DTSTAMP:20260422T054354
CREATED:20230831T151938Z
LAST-MODIFIED:20240620T150406Z
UID:1576-1719946800-1719954000@samba-ruhrgebeat.de
SUMMARY:Groove MiXX: Nachholtermin - Mülheim an der Ruhr
DESCRIPTION:Der Einzeltermin richtet sich an Trommler*innen mit Vorkenntnissen\, Anfänger bis Mittelstufe. \nEs entsteht ein mehrstimmiges Stücke mit den ganz unterschiedlichen Sounds der o.g. Instrumente. \nInstrumente stehen zur Verfügung (begrenzt)…
URL:https://samba-ruhrgebeat.de/event/groove-mixx-conga-cajon-djembe-co/
LOCATION:Samba-Ruhrgebeat / Europa Pavillon\, 45479 Mülheim an der Ruhr\, Am Schloß Broich 34\, Mülheim an der Ruhr\, 45479
ATTACH;FMTTYPE=image/jpeg:https://samba-ruhrgebeat.de/wp-content/uploads/2023/07/Th.Kahle-Cajon-scaled.jpg
END:VEVENT
END:VCALENDAR