BEGIN:VCALENDAR
VERSION:2.0
PRODID:-//Samba-RuhrgeBeat.de - ECPv6.0.10//NONSGML v1.0//EN
CALSCALE:GREGORIAN
METHOD:PUBLISH
X-ORIGINAL-URL:https://samba-ruhrgebeat.de
X-WR-CALDESC:Veranstaltungen für Samba-RuhrgeBeat.de
REFRESH-INTERVAL;VALUE=DURATION:PT1H
X-Robots-Tag:noindex
X-PUBLISHED-TTL:PT1H
BEGIN:VTIMEZONE
TZID:UTC
BEGIN:STANDARD
TZOFFSETFROM:+0000
TZOFFSETTO:+0000
TZNAME:UTC
DTSTART:20240101T000000
END:STANDARD
END:VTIMEZONE
BEGIN:VEVENT
DTSTART;TZID=UTC:20241203T130000
DTEND;TZID=UTC:20241203T140000
DTSTAMP:20260422T093954
CREATED:20241129T144022Z
LAST-MODIFIED:20241129T144143Z
UID:1907-1733230800-1733234400@samba-ruhrgebeat.de
SUMMARY:Cajon und Djembe Trommeln - Oberhausen
DESCRIPTION:Mit Schüler*innen der 8. Klassen wird ein Trommelstück geprobt und zur Aufführung gebracht. \nIn Kooperation mit den „Kulturagenten“ Oberhausen!
URL:https://samba-ruhrgebeat.de/event/cajon-und-djembe-trommeln-oberhausen/
LOCATION:Gesamtschule Weierheide\, Oberhausen
CATEGORIES:Schulen
END:VEVENT
END:VCALENDAR