BEGIN:VCALENDAR
VERSION:2.0
PRODID:-//Samba-RuhrgeBeat.de - ECPv6.0.10//NONSGML v1.0//EN
CALSCALE:GREGORIAN
METHOD:PUBLISH
X-ORIGINAL-URL:https://samba-ruhrgebeat.de
X-WR-CALDESC:Veranstaltungen für Samba-RuhrgeBeat.de
REFRESH-INTERVAL;VALUE=DURATION:PT1H
X-Robots-Tag:noindex
X-PUBLISHED-TTL:PT1H
BEGIN:VTIMEZONE
TZID:UTC
BEGIN:STANDARD
TZOFFSETFROM:+0000
TZOFFSETTO:+0000
TZNAME:UTC
DTSTART:20250101T000000
END:STANDARD
END:VTIMEZONE
BEGIN:VEVENT
DTSTART;TZID=UTC:20250517T153000
DTEND;TZID=UTC:20250517T170000
DTSTAMP:20260422T012219
CREATED:20250215T131812Z
LAST-MODIFIED:20250215T131812Z
UID:1968-1747495800-1747501200@samba-ruhrgebeat.de
SUMMARY:Karneval Prinzessinnen A.D. - Trommelworkshop in Stadtlohn
DESCRIPTION:Mit 25 ehem. Karnevalsprinzessinnen mache ich einen Trommelworkshop\, 4 fun!
URL:https://samba-ruhrgebeat.de/event/karneval-prinzessinnen-a-d-trommelworkshop-in-stadtlohn/
LOCATION:Stadtlohn
END:VEVENT
END:VCALENDAR