BEGIN:VCALENDAR
VERSION:2.0
PRODID:-//Samba-RuhrgeBeat.de - ECPv6.0.10//NONSGML v1.0//EN
CALSCALE:GREGORIAN
METHOD:PUBLISH
X-ORIGINAL-URL:https://samba-ruhrgebeat.de
X-WR-CALDESC:Veranstaltungen für Samba-RuhrgeBeat.de
REFRESH-INTERVAL;VALUE=DURATION:PT1H
X-Robots-Tag:noindex
X-PUBLISHED-TTL:PT1H
BEGIN:VTIMEZONE
TZID:UTC
BEGIN:STANDARD
TZOFFSETFROM:+0000
TZOFFSETTO:+0000
TZNAME:UTC
DTSTART:20250101T000000
END:STANDARD
END:VTIMEZONE
BEGIN:VEVENT
DTSTART;TZID=UTC:20250520T150000
DTEND;TZID=UTC:20250520T170000
DTSTAMP:20260422T012304
CREATED:20221103T161330Z
LAST-MODIFIED:20250404T150004Z
UID:1228-1747753200-1747760400@samba-ruhrgebeat.de
SUMMARY:Team Trommeln -  Institut für Medizinische Psychologie\, Klinikum Essen
DESCRIPTION:Workshop mit 16 Teilnehmer*innen. > Cajon\, Djembe und Co. \nMit den Mitarbeiterinnen den Institut für Medizinische Psychologie entsteht an diesem Nachmittag ein richtiges kleines Trommelstück\, in Teamarbeit! \n  \n  \n 
URL:https://samba-ruhrgebeat.de/event/samba-team-drumming-toshiba-duesseldorf/
LOCATION:Essen
END:VEVENT
END:VCALENDAR