BEGIN:VCALENDAR
VERSION:2.0
PRODID:-//Samba-RuhrgeBeat.de - ECPv6.0.10//NONSGML v1.0//EN
CALSCALE:GREGORIAN
METHOD:PUBLISH
X-WR-CALNAME:Samba-RuhrgeBeat.de
X-ORIGINAL-URL:https://samba-ruhrgebeat.de
X-WR-CALDESC:Veranstaltungen für Samba-RuhrgeBeat.de
REFRESH-INTERVAL;VALUE=DURATION:PT1H
X-Robots-Tag:noindex
X-PUBLISHED-TTL:PT1H
BEGIN:VTIMEZONE
TZID:UTC
BEGIN:STANDARD
TZOFFSETFROM:+0000
TZOFFSETTO:+0000
TZNAME:UTC
DTSTART:20250101T000000
END:STANDARD
END:VTIMEZONE
BEGIN:VEVENT
DTSTART;TZID=UTC:20250527T143000
DTEND;TZID=UTC:20250527T163000
DTSTAMP:20260421T234348
CREATED:20250108T163437Z
LAST-MODIFIED:20250519T133034Z
UID:1941-1748356200-1748363400@samba-ruhrgebeat.de
SUMMARY:Kultur und Schule: Sambaschule Karl-Ziegler Gymnasium Mülheim an der Ruhr
DESCRIPTION:Das Landesprogramm NRW – Kultur und Schule- bringt verschiedene Künste und Künstler mit Schulen in NRW zusammen. \nIch freue mich mit Schüler*innen des Karl Ziegler Gymnasiums in MH – Stadtmitte eine Samba-Batucada-Bateria aufzubauen. \nIm Tandem mit einem Musiklehrer\, der genau dies wollte\, werden wir mit den Schüler*innen für einen Auftritt im Sommer proben.
URL:https://samba-ruhrgebeat.de/event/kultur-und-schule-sambaschule-karl-ziegler-gymnasium-muelheim-an-der-ruhr/
LOCATION:Karl Ziegler Gymnasium\, Mülheim an der Ruhr
END:VEVENT
END:VCALENDAR