BEGIN:VCALENDAR
VERSION:2.0
PRODID:-//Samba-RuhrgeBeat.de - ECPv6.0.10//NONSGML v1.0//EN
CALSCALE:GREGORIAN
METHOD:PUBLISH
X-WR-CALNAME:Samba-RuhrgeBeat.de
X-ORIGINAL-URL:https://samba-ruhrgebeat.de
X-WR-CALDESC:Veranstaltungen für Samba-RuhrgeBeat.de
REFRESH-INTERVAL;VALUE=DURATION:PT1H
X-Robots-Tag:noindex
X-PUBLISHED-TTL:PT1H
BEGIN:VTIMEZONE
TZID:UTC
BEGIN:STANDARD
TZOFFSETFROM:+0000
TZOFFSETTO:+0000
TZNAME:UTC
DTSTART:20250101T000000
END:STANDARD
END:VTIMEZONE
BEGIN:VEVENT
DTSTART;TZID=UTC:20250529T123000
DTEND;TZID=UTC:20250529T143000
DTSTAMP:20260421T234329
CREATED:20230104T160446Z
LAST-MODIFIED:20250404T145253Z
UID:1284-1748521800-1748529000@samba-ruhrgebeat.de
SUMMARY:Sambakowski – NRZ Wandertag - Essen
DESCRIPTION:Samba-Batucada / Rio Samba & Timbalda & Samba Reggae & Latin – Grooves \n– Sambakowski spielt am Regattaturm  / Baldeneysee 2 Sets ab ca. 12 / 12.30 Uhr – 14.30 Uhr.
URL:https://samba-ruhrgebeat.de/event/sambakowski-unterricht-probe-8/
LOCATION:Regattaturm am Baldeneysee\, Essen\, Essen
ATTACH;FMTTYPE=image/jpeg:https://samba-ruhrgebeat.de/wp-content/uploads/2023/01/DSC_8682_00001-scaled.jpg
END:VEVENT
END:VCALENDAR