BEGIN:VCALENDAR
VERSION:2.0
PRODID:-//Samba-RuhrgeBeat.de - ECPv6.0.10//NONSGML v1.0//EN
CALSCALE:GREGORIAN
METHOD:PUBLISH
X-WR-CALNAME:Samba-RuhrgeBeat.de
X-ORIGINAL-URL:https://samba-ruhrgebeat.de
X-WR-CALDESC:Veranstaltungen für Samba-RuhrgeBeat.de
REFRESH-INTERVAL;VALUE=DURATION:PT1H
X-Robots-Tag:noindex
X-PUBLISHED-TTL:PT1H
BEGIN:VTIMEZONE
TZID:UTC
BEGIN:STANDARD
TZOFFSETFROM:+0000
TZOFFSETTO:+0000
TZNAME:UTC
DTSTART:20250101T000000
END:STANDARD
END:VTIMEZONE
BEGIN:VEVENT
DTSTART;TZID=UTC:20250830T190000
DTEND;TZID=UTC:20250830T200000
DTSTAMP:20260421T201856
CREATED:20191105T141939Z
LAST-MODIFIED:20250215T130420Z
UID:637-1756580400-1756584000@samba-ruhrgebeat.de
SUMMARY:Sambakowski Auftritt  Heiligenhaus
DESCRIPTION:Sambakowski entert einen 50 igsten Geburtag \nPrivatveranstaltung!
URL:https://samba-ruhrgebeat.de/event/sambkoski-auftritt-workshop-geburtsagsfeier/
END:VEVENT
END:VCALENDAR