BEGIN:VCALENDAR
VERSION:2.0
PRODID:-//Samba-RuhrgeBeat.de - ECPv6.0.10//NONSGML v1.0//EN
CALSCALE:GREGORIAN
METHOD:PUBLISH
X-WR-CALNAME:Samba-RuhrgeBeat.de
X-ORIGINAL-URL:https://samba-ruhrgebeat.de
X-WR-CALDESC:Veranstaltungen für Samba-RuhrgeBeat.de
REFRESH-INTERVAL;VALUE=DURATION:PT1H
X-Robots-Tag:noindex
X-PUBLISHED-TTL:PT1H
BEGIN:VTIMEZONE
TZID:UTC
BEGIN:STANDARD
TZOFFSETFROM:+0000
TZOFFSETTO:+0000
TZNAME:UTC
DTSTART:20250101T000000
END:STANDARD
END:VTIMEZONE
BEGIN:VEVENT
DTSTART;TZID=UTC:20250902T170000
DTEND;TZID=UTC:20250902T200000
DTSTAMP:20260421T185541
CREATED:20231011T155240Z
LAST-MODIFIED:20250713T145034Z
UID:1616-1756832400-1756843200@samba-ruhrgebeat.de
SUMMARY:TeamWalk: Essen - Sambakowski & Dienstags Kurs
DESCRIPTION:
URL:https://samba-ruhrgebeat.de/event/teamlauf-muelheim-an-der-ruhr-essen-sambakowski/
ATTACH;FMTTYPE=image/jpeg:https://samba-ruhrgebeat.de/wp-content/uploads/2022/11/DSC_8687_00001-scaled.jpg
END:VEVENT
END:VCALENDAR