BEGIN:VCALENDAR
VERSION:2.0
PRODID:-//Samba-RuhrgeBeat.de - ECPv6.0.10//NONSGML v1.0//EN
CALSCALE:GREGORIAN
METHOD:PUBLISH
X-WR-CALNAME:Samba-RuhrgeBeat.de
X-ORIGINAL-URL:https://samba-ruhrgebeat.de
X-WR-CALDESC:Veranstaltungen für Samba-RuhrgeBeat.de
REFRESH-INTERVAL;VALUE=DURATION:PT1H
X-Robots-Tag:noindex
X-PUBLISHED-TTL:PT1H
BEGIN:VTIMEZONE
TZID:UTC
BEGIN:STANDARD
TZOFFSETFROM:+0000
TZOFFSETTO:+0000
TZNAME:UTC
DTSTART:20250101T000000
END:STANDARD
END:VTIMEZONE
BEGIN:VEVENT
DTSTART;TZID=UTC:20250928T100000
DTEND;TZID=UTC:20250928T130000
DTSTAMP:20260421T185605
CREATED:20230207T161641Z
LAST-MODIFIED:20250923T093948Z
UID:1389-1759053600-1759064400@samba-ruhrgebeat.de
SUMMARY:Sambakowski & Dienstags Kurs  > CityTrail\, Essen (am Colosseum)
DESCRIPTION:Mit Sambakowski und Trommler*innen des Dienstatgs Kurses spielen wir für die Walker des City Trails in Essen auf den Stufen des Colosseums.
URL:https://samba-ruhrgebeat.de/event/sambakowski-pink-gegen-rassismus/
LOCATION:Essen
CATEGORIES:Percussion-Live
ATTACH;FMTTYPE=image/jpeg:https://samba-ruhrgebeat.de/wp-content/uploads/2022/11/DSC_8807_00001-scaled.jpg
END:VEVENT
END:VCALENDAR