BEGIN:VCALENDAR
VERSION:2.0
PRODID:-//Samba-RuhrgeBeat.de - ECPv6.0.10//NONSGML v1.0//EN
CALSCALE:GREGORIAN
METHOD:PUBLISH
X-ORIGINAL-URL:https://samba-ruhrgebeat.de
X-WR-CALDESC:Veranstaltungen für Samba-RuhrgeBeat.de
REFRESH-INTERVAL;VALUE=DURATION:PT1H
X-Robots-Tag:noindex
X-PUBLISHED-TTL:PT1H
BEGIN:VTIMEZONE
TZID:UTC
BEGIN:STANDARD
TZOFFSETFROM:+0000
TZOFFSETTO:+0000
TZNAME:UTC
DTSTART:20250101T000000
END:STANDARD
END:VTIMEZONE
BEGIN:VEVENT
DTSTART;TZID=UTC:20251108T200000
DTEND;TZID=UTC:20251108T210000
DTSTAMP:20260421T154725
CREATED:20250902T140410Z
LAST-MODIFIED:20250902T140500Z
UID:2117-1762632000-1762635600@samba-ruhrgebeat.de
SUMMARY:Hochzeit mit SambaWorkshop
DESCRIPTION:Mit 70 Gästen und dem Hochzeitspaar gibt es einen Surprise – Flashmob – Samba-Percussion-Workshop …
URL:https://samba-ruhrgebeat.de/event/hochzeit-mit-sambaworkshop/
LOCATION:45701 Herten
END:VEVENT
END:VCALENDAR