BEGIN:VCALENDAR
VERSION:2.0
PRODID:-//Samba-RuhrgeBeat.de - ECPv6.0.10//NONSGML v1.0//EN
CALSCALE:GREGORIAN
METHOD:PUBLISH
X-ORIGINAL-URL:https://samba-ruhrgebeat.de
X-WR-CALDESC:Veranstaltungen für Samba-RuhrgeBeat.de
REFRESH-INTERVAL;VALUE=DURATION:PT1H
X-Robots-Tag:noindex
X-PUBLISHED-TTL:PT1H
BEGIN:VTIMEZONE
TZID:UTC
BEGIN:STANDARD
TZOFFSETFROM:+0000
TZOFFSETTO:+0000
TZNAME:UTC
DTSTART:20250101T000000
END:STANDARD
END:VTIMEZONE
BEGIN:VEVENT
DTSTART;TZID=UTC:20251122T140000
DTEND;TZID=UTC:20251122T180000
DTSTAMP:20260421T155455
CREATED:20200725T120512Z
LAST-MODIFIED:20250930T114626Z
UID:851-1763820000-1763834400@samba-ruhrgebeat.de
SUMMARY:Workshop: Samba-Reggae & Timbalada. Rhythmen aus Salvador-Bahia
DESCRIPTION:Für Einsteiger*innen und Trommler*innen mit Vorkenntnissen! \nDie Blocos bringen ihr Publikum mit ihren Samba-Reggae und Timbalada-Rhythmen mitten in der Altstadt von Salvador zum Tanzen. Das Rezept besteht aus karibischen Rhythmen und Samba-Claven. Breaks und Calls sind dann das Salz in der Suppe der Trommelgrooves\, die an diesem Samstag ins Rollen gebracht werden. Auf brasilianischen Djembes\, den Timbals\, den Surdo-Basstrommeln\, Caixa-Snaredrums und den peitschenden Repiniques gibt es zunächst eine Einführung in die Spieltechniken bevor es dann an das Zusammenspiel mehrstimmiger Rhythmen geht. \nDie Leihgebühr für die Instrumente ist inklusive! Ihr bringt bitte einen Gehörschutz mit. \nErmäßigte Kursgebühr 40€ für Teilnehmer*innen mit wenig Geld! \nDie Leihgebühr für die Instrumente ist inklusive! Eigene Trommeln können aber gern mitgebracht werden. \nAnmeldung beim https://www.grend-bildungswerk.de/index.php/kursprogramm/sprachen-kultur                                                                                                                                                                                                                                          > Runterscrollen und klick auf „Kulturelle Vielfalt“ \nTK plays Repinique \n Samba Percussion Workshop
URL:https://samba-ruhrgebeat.de/event/samba-percussion-brasil-percussion/
LOCATION:Samba-Ruhrgebeat / Europa Pavillon\, 45479 Mülheim an der Ruhr\, Am Schloß Broich 34\, Mülheim an der Ruhr\, 45479
CATEGORIES:Kurse,Workshop
ATTACH;FMTTYPE=image/jpeg:https://samba-ruhrgebeat.de/wp-content/uploads/2019/03/DSC_5365_00001-4.jpg
ORGANIZER;CN="Grend%20Bildungswerk":MAILTO:bildung@grend.de
END:VEVENT
END:VCALENDAR