BEGIN:VCALENDAR
VERSION:2.0
PRODID:-//Samba-RuhrgeBeat.de - ECPv6.0.10//NONSGML v1.0//EN
CALSCALE:GREGORIAN
METHOD:PUBLISH
X-WR-CALNAME:Samba-RuhrgeBeat.de
X-ORIGINAL-URL:https://samba-ruhrgebeat.de
X-WR-CALDESC:Veranstaltungen für Samba-RuhrgeBeat.de
REFRESH-INTERVAL;VALUE=DURATION:PT1H
X-Robots-Tag:noindex
X-PUBLISHED-TTL:PT1H
BEGIN:VTIMEZONE
TZID:UTC
BEGIN:STANDARD
TZOFFSETFROM:+0000
TZOFFSETTO:+0000
TZNAME:UTC
DTSTART:20250101T000000
END:STANDARD
END:VTIMEZONE
BEGIN:VEVENT
DTSTART;TZID=UTC:20251123T110000
DTEND;TZID=UTC:20251123T133000
DTSTAMP:20260421T154600
CREATED:20251114T150303Z
LAST-MODIFIED:20251114T150303Z
UID:2154-1763895600-1763904600@samba-ruhrgebeat.de
SUMMARY:Restaurant Wiedereröffnung > Samba Ruhrgebeat - Band
DESCRIPTION:Mit 6 Trommlern des Samba-Syndikat und Sambakowski feiern wir die Wiedereröffnung \neines Restaurants in Rüttenscheid.
URL:https://samba-ruhrgebeat.de/event/restaurant-wiedereroeffnung-samba-ruhrgebeat-band/
END:VEVENT
END:VCALENDAR