BEGIN:VCALENDAR
VERSION:2.0
PRODID:-//Samba-RuhrgeBeat.de - ECPv6.0.10//NONSGML v1.0//EN
CALSCALE:GREGORIAN
METHOD:PUBLISH
X-ORIGINAL-URL:https://samba-ruhrgebeat.de
X-WR-CALDESC:Veranstaltungen für Samba-RuhrgeBeat.de
REFRESH-INTERVAL;VALUE=DURATION:PT1H
X-Robots-Tag:noindex
X-PUBLISHED-TTL:PT1H
BEGIN:VTIMEZONE
TZID:UTC
BEGIN:STANDARD
TZOFFSETFROM:+0000
TZOFFSETTO:+0000
TZNAME:UTC
DTSTART:20250101T000000
END:STANDARD
END:VTIMEZONE
BEGIN:VEVENT
DTSTART;VALUE=DATE:20251128
DTEND;VALUE=DATE:20251201
DTSTAMP:20260421T154707
CREATED:20210826T112131Z
LAST-MODIFIED:20250128T165906Z
UID:1001-1764288000-1764547199@samba-ruhrgebeat.de
SUMMARY:Sambakowski - Probenwochenende - Wuppertal / Velbert
DESCRIPTION:Interner Bandworkshop!!! \n– Neue Grooves und Breaks\, \n– alte Rhythmen für neue Trommler*innen proben\, \n– Spieltechniken verfeinern\, \n– und uns Feiern!!! \n 
URL:https://samba-ruhrgebeat.de/event/sambakowski-probenwochenende/
LOCATION:Silvio Gesell Tagungshaus\, Wuppertal
ATTACH;FMTTYPE=image/jpeg:https://samba-ruhrgebeat.de/wp-content/uploads/2023/01/DSC_8682_00001-scaled.jpg
END:VEVENT
END:VCALENDAR