BEGIN:VCALENDAR
VERSION:2.0
PRODID:-//Samba-RuhrgeBeat.de - ECPv6.0.10//NONSGML v1.0//EN
CALSCALE:GREGORIAN
METHOD:PUBLISH
X-WR-CALNAME:Samba-RuhrgeBeat.de
X-ORIGINAL-URL:https://samba-ruhrgebeat.de
X-WR-CALDESC:Veranstaltungen für Samba-RuhrgeBeat.de
REFRESH-INTERVAL;VALUE=DURATION:PT1H
X-Robots-Tag:noindex
X-PUBLISHED-TTL:PT1H
BEGIN:VTIMEZONE
TZID:UTC
BEGIN:STANDARD
TZOFFSETFROM:+0000
TZOFFSETTO:+0000
TZNAME:UTC
DTSTART:20260101T000000
END:STANDARD
END:VTIMEZONE
BEGIN:VEVENT
DTSTART;TZID=UTC:20260204T110000
DTEND;TZID=UTC:20260204T110000
DTSTAMP:20260421T095025
CREATED:20230629T074945Z
LAST-MODIFIED:20260128T153822Z
UID:1526-1770202800-1770202800@samba-ruhrgebeat.de
SUMMARY:SambaRuhrgebeat Trio @ Verdi - Düsseldorf
DESCRIPTION:Eine kleine Sambabesetztung unterstützt die Verdi – Kundgebung/ Demo.
URL:https://samba-ruhrgebeat.de/event/samba-verdi-tuev-nord-essen/
LOCATION:Wanheimerstr. 70-72\, Düsseldorf
END:VEVENT
END:VCALENDAR