BEGIN:VCALENDAR
VERSION:2.0
PRODID:-//Samba-RuhrgeBeat.de - ECPv6.0.10//NONSGML v1.0//EN
CALSCALE:GREGORIAN
METHOD:PUBLISH
X-WR-CALNAME:Samba-RuhrgeBeat.de
X-ORIGINAL-URL:https://samba-ruhrgebeat.de
X-WR-CALDESC:Veranstaltungen für Samba-RuhrgeBeat.de
REFRESH-INTERVAL;VALUE=DURATION:PT1H
X-Robots-Tag:noindex
X-PUBLISHED-TTL:PT1H
BEGIN:VTIMEZONE
TZID:UTC
BEGIN:STANDARD
TZOFFSETFROM:+0000
TZOFFSETTO:+0000
TZNAME:UTC
DTSTART:20260101T000000
END:STANDARD
END:VTIMEZONE
BEGIN:VEVENT
DTSTART;TZID=UTC:20260425T150000
DTEND;TZID=UTC:20260425T200000
DTSTAMP:20260425T133606
CREATED:20211104T121811Z
LAST-MODIFIED:20260420T153611Z
UID:1044-1777129200-1777147200@samba-ruhrgebeat.de
SUMMARY:Bahia Style @ Drummers Institute > Teilzeitstudium
DESCRIPTION:Brasil-Percussion ( Samba Reggae / Baiao / Timbalada) \nfür die Schlagzeug-Teilzeitausbildung 2026 \n 
URL:https://samba-ruhrgebeat.de/event/neu-dozent-beim-drummers-institute/
LOCATION:Drummers Instritute\, Krefeld\, Grüner Dyk 28-30\, Krefeld\, NRW\, 47803
ATTACH;FMTTYPE=image/jpeg:https://samba-ruhrgebeat.de/wp-content/uploads/2025/11/DSC_5413_00001-2-scaled.jpg
END:VEVENT
END:VCALENDAR