BEGIN:VCALENDAR
VERSION:2.0
PRODID:-//Samba-RuhrgeBeat.de - ECPv6.0.10//NONSGML v1.0//EN
CALSCALE:GREGORIAN
METHOD:PUBLISH
X-ORIGINAL-URL:https://samba-ruhrgebeat.de
X-WR-CALDESC:Veranstaltungen für Samba-RuhrgeBeat.de
REFRESH-INTERVAL;VALUE=DURATION:PT1H
X-Robots-Tag:noindex
X-PUBLISHED-TTL:PT1H
BEGIN:VTIMEZONE
TZID:UTC
BEGIN:STANDARD
TZOFFSETFROM:+0000
TZOFFSETTO:+0000
TZNAME:UTC
DTSTART:20260101T000000
END:STANDARD
END:VTIMEZONE
BEGIN:VEVENT
DTSTART;TZID=UTC:20260519T170000
DTEND;TZID=UTC:20260519T183000
DTSTAMP:20260423T091147
CREATED:20230721T072344Z
LAST-MODIFIED:20260420T155752Z
UID:1558-1779210000-1779215400@samba-ruhrgebeat.de
SUMMARY:Team-Trommeln mit BPM&O GmbH in Sprockhövel
DESCRIPTION:Mit 25 Mitarbeiter*innen\, international\,  wird innerhalb von 1\,5 Std.  ein Trommel-Stück erarbeitet. \nMehrstimmig mit Cajons und Djembes\,  Thanks to Teamgeist – West ! \n  \n 
URL:https://samba-ruhrgebeat.de/event/samba-teamdrumming-teamsong-mit-dhl/
LOCATION:Vesper Hotel\, Sprockhövel\, Deutschland
END:VEVENT
END:VCALENDAR