BEGIN:VCALENDAR
VERSION:2.0
PRODID:-//Samba-RuhrgeBeat.de - ECPv6.0.10//NONSGML v1.0//EN
CALSCALE:GREGORIAN
METHOD:PUBLISH
X-ORIGINAL-URL:https://samba-ruhrgebeat.de
X-WR-CALDESC:Veranstaltungen für Samba-RuhrgeBeat.de
REFRESH-INTERVAL;VALUE=DURATION:PT1H
X-Robots-Tag:noindex
X-PUBLISHED-TTL:PT1H
BEGIN:VTIMEZONE
TZID:UTC
BEGIN:STANDARD
TZOFFSETFROM:+0000
TZOFFSETTO:+0000
TZNAME:UTC
DTSTART:20240101T000000
END:STANDARD
END:VTIMEZONE
BEGIN:VEVENT
DTSTART;TZID=UTC:20241008T190000
DTEND;TZID=UTC:20241008T210000
DTSTAMP:20260422T090940
CREATED:20241007T104531Z
LAST-MODIFIED:20241007T104531Z
UID:1860-1728414000-1728421200@samba-ruhrgebeat.de
SUMMARY:Conga - Drumming für fortgeschrittene Trommler*innen
DESCRIPTION:Conga Latin – und Brasil-Style auf 1 bis 3 Congas.4er und & 6/8 Grooves. \nInkl. Unabhängigkeitsübungen mit Stick und Hand. Instrumente stehen zur Verfügung! \nAnmeldung bei mir!
URL:https://samba-ruhrgebeat.de/event/conga-drumming-fuer-fortgeschrittene-trommlerinnen/
LOCATION:Samba-Ruhrgebeat / Europa Pavillon\, 45479 Mülheim an der Ruhr\, Am Schloß Broich 34\, Mülheim an der Ruhr\, 45479
ATTACH;FMTTYPE=image/jpeg:https://samba-ruhrgebeat.de/wp-content/uploads/2024/10/DSC_2448r-scaled.jpg
END:VEVENT
BEGIN:VEVENT
DTSTART;TZID=UTC:20241015T110000
DTEND;TZID=UTC:20241015T130000
DTSTAMP:20260422T090940
CREATED:20240910T113337Z
LAST-MODIFIED:20241007T105642Z
UID:1852-1728990000-1728997200@samba-ruhrgebeat.de
SUMMARY:Hip-Hop Brazil: Trommelworkshops für Jugendliche\, Mülheim an der Ruhr
DESCRIPTION:In den Herbstferien startet ein Trommelprojekt für jugendliche Teilnehmer*innen\, die Hip-Hop einmal anders kennen lernen möchten und Interesse an Trommeln und Percussion haben. \nVorerfahrungen sind nicht nötig. Die Instrumente werden gestellt. 15. & 18. Okt. / 11-13 Uhr / kostenfrei / Anmeldung und weitere Infos > siehe Link….
URL:https://samba-ruhrgebeat.de/event/hip-hop-brazil-trommelworkshops-fuer-jugendliche/
LOCATION:Samba-Ruhrgebeat / Europa Pavillon\, 45479 Mülheim an der Ruhr\, Am Schloß Broich 34\, Mülheim an der Ruhr\, 45479
END:VEVENT
BEGIN:VEVENT
DTSTART;TZID=UTC:20241018T110000
DTEND;TZID=UTC:20241018T130000
DTSTAMP:20260422T090940
CREATED:20240910T113521Z
LAST-MODIFIED:20240910T113555Z
UID:1855-1729249200-1729256400@samba-ruhrgebeat.de
SUMMARY:Hip-Hop Brazil: Trommelworkshops für Jugendliche
DESCRIPTION:In den Herbstferien startet ein Trommelprojekt für jugendliche Teilnehmer*innen\, die Hip-Hop einmal anders kennen lernen möchten und Interesse an Trommeln und Percussion haben. \nVorerfahrungen sind nicht nötig. Die Instrumente werden gestellt. 15. & 18. Okt. / 11-13 Uhr / kostenfrei / Anmeldung und weitere Infos > siehe Link….
URL:https://samba-ruhrgebeat.de/event/hip-hop-brazil-trommelworkshops-fuer-jugendliche-2/
LOCATION:Samba-Ruhrgebeat / Europa Pavillon\, 45479 Mülheim an der Ruhr\, Am Schloß Broich 34\, Mülheim an der Ruhr\, 45479
END:VEVENT
END:VCALENDAR