BEGIN:VCALENDAR
VERSION:2.0
PRODID:-//Samba-RuhrgeBeat.de - ECPv6.0.10//NONSGML v1.0//EN
CALSCALE:GREGORIAN
METHOD:PUBLISH
X-WR-CALNAME:Samba-RuhrgeBeat.de
X-ORIGINAL-URL:https://samba-ruhrgebeat.de
X-WR-CALDESC:Veranstaltungen für Samba-RuhrgeBeat.de
REFRESH-INTERVAL;VALUE=DURATION:PT1H
X-Robots-Tag:noindex
X-PUBLISHED-TTL:PT1H
BEGIN:VTIMEZONE
TZID:UTC
BEGIN:STANDARD
TZOFFSETFROM:+0000
TZOFFSETTO:+0000
TZNAME:UTC
DTSTART:20240101T000000
END:STANDARD
END:VTIMEZONE
BEGIN:VEVENT
DTSTART;TZID=UTC:20241108T170000
DTEND;TZID=UTC:20241108T190000
DTSTAMP:20260422T093806
CREATED:20241007T104947Z
LAST-MODIFIED:20241007T105614Z
UID:1863-1731085200-1731092400@samba-ruhrgebeat.de
SUMMARY:Samba-Team mit RLS Bildungs-Akademie in Mülheim an der Ruhr
DESCRIPTION:Mit 60 Mitarbeiter*innen und Dozenten der bundesweit aufgestellten RLS Bildungs-Akademie gibt es ein Samba-Teamdrumming in den Räumen der „Alten Schule“ in Mülheim an der Ruhr.
URL:https://samba-ruhrgebeat.de/event/samba-team-mit-rls-bildungs-akademie/
LOCATION:Alte Schule Mülheim an der Ruhr
ATTACH;FMTTYPE=image/jpeg:https://samba-ruhrgebeat.de/wp-content/uploads/2023/02/DSC_8723_00001-scaled.jpg
END:VEVENT
END:VCALENDAR