BEGIN:VCALENDAR
VERSION:2.0
PRODID:-//Samba-RuhrgeBeat.de - ECPv6.0.10//NONSGML v1.0//EN
CALSCALE:GREGORIAN
METHOD:PUBLISH
X-WR-CALNAME:Samba-RuhrgeBeat.de
X-ORIGINAL-URL:https://samba-ruhrgebeat.de
X-WR-CALDESC:Veranstaltungen für Samba-RuhrgeBeat.de
REFRESH-INTERVAL;VALUE=DURATION:PT1H
X-Robots-Tag:noindex
X-PUBLISHED-TTL:PT1H
BEGIN:VTIMEZONE
TZID:UTC
BEGIN:STANDARD
TZOFFSETFROM:+0000
TZOFFSETTO:+0000
TZNAME:UTC
DTSTART:20250101T000000
END:STANDARD
END:VTIMEZONE
BEGIN:VEVENT
DTSTART;TZID=UTC:20250401T190000
DTEND;TZID=UTC:20250401T210000
DTSTAMP:20260422T012202
CREATED:20241112T163015Z
LAST-MODIFIED:20250326T112102Z
UID:1900-1743534000-1743541200@samba-ruhrgebeat.de
SUMMARY:Conga > Latin & Afrobrasil für fortgeschrittenere Trommler*innen in Mülheim an der Ruhr
DESCRIPTION:Gespielt werden Rhythmen auf 2 – 3 Congas\, oder mehrstimmig mit Timbales (für Einsteiger)\, Bombos\,  Cajons und Kleinpercussion. \nSolopattern zu den Rhythmen und Unabhängikeitsübungen. > Rumba / Mocambique / Samba / Guaguanco / Merengue \nDer Kurs findet 14-tägig statt! \nAnmeldung bei mir!
URL:https://samba-ruhrgebeat.de/event/conga-latin-afrobrasil-fuer-fortgeschrittenere-trommlerinnen-in-muelheim-an-der-ruhr/
LOCATION:Samba-Ruhrgebeat / Europa Pavillon\, 45479 Mülheim an der Ruhr\, Am Schloß Broich 34\, Mülheim an der Ruhr\, 45479
ATTACH;FMTTYPE=image/jpeg:https://samba-ruhrgebeat.de/wp-content/uploads/2024/10/DSC_2448r-scaled.jpg
END:VEVENT
BEGIN:VEVENT
DTSTART;TZID=UTC:20250409T143000
DTEND;TZID=UTC:20250409T160000
DTSTAMP:20260422T012202
CREATED:20230117T150333Z
LAST-MODIFIED:20250215T131509Z
UID:1358-1744209000-1744214400@samba-ruhrgebeat.de
SUMMARY:Förderturmhaus - Auftritt Zeche Carl - Essen
DESCRIPTION:Trommelkurs für Kinder aus Altenessen\, gefördert vom Jugendamt der Stadt Essen. \nAbschluss-Aufführung
URL:https://samba-ruhrgebeat.de/event/foerderturmhaus-zeche-carl-10/
LOCATION:Förderturmhaus Zeche Carl \, Essen
END:VEVENT
END:VCALENDAR