BEGIN:VCALENDAR
VERSION:2.0
PRODID:-//Samba-RuhrgeBeat.de - ECPv6.0.10//NONSGML v1.0//EN
CALSCALE:GREGORIAN
METHOD:PUBLISH
X-WR-CALNAME:Samba-RuhrgeBeat.de
X-ORIGINAL-URL:https://samba-ruhrgebeat.de
X-WR-CALDESC:Veranstaltungen für Samba-RuhrgeBeat.de
REFRESH-INTERVAL;VALUE=DURATION:PT1H
X-Robots-Tag:noindex
X-PUBLISHED-TTL:PT1H
BEGIN:VTIMEZONE
TZID:UTC
BEGIN:STANDARD
TZOFFSETFROM:+0000
TZOFFSETTO:+0000
TZNAME:UTC
DTSTART:20250101T000000
END:STANDARD
END:VTIMEZONE
BEGIN:VEVENT
DTSTART;TZID=UTC:20250603T190000
DTEND;TZID=UTC:20250603T210000
DTSTAMP:20260421T220543
CREATED:20240304T164528Z
LAST-MODIFIED:20250519T132907Z
UID:1695-1748977200-1748984400@samba-ruhrgebeat.de
SUMMARY:Trommelkurs Samba- Percussion “Rio Style“  Mülheim an der Ruhr
DESCRIPTION:An 5 Terminen könnt ihr die unterschiedlichen Styles der Sambaschulen in Rio und der Blocos in Salvador da Bahia kennenlernen. \nFür TrommlerInnen mit Vorkenntnissen (vorheriger Workshop – oder Kursbesuch!). Der Kurs findet 14-tägig statt\, im Wechsel mit Conga für Fortgeschrittene/Mittelstufe. \nInstrumente stehen zur Verfügung! \n> Wer Zeit hat kann am 18.06. mit Trommler*innen von SAMBAKOWSKI auf dem Duisburger Marathon mitspielen! \nInfos siehe Anmeldelink (Grend-Bildungswerk) > Scrollen und „Klick“ auf Kulturelle Vielfalt!
URL:https://samba-ruhrgebeat.de/event/neu-samba-kurs-ab-09-april/
LOCATION:Samba-Ruhrgebeat / Europa Pavillon\, 45479 Mülheim an der Ruhr\, Am Schloß Broich 34\, Mülheim an der Ruhr\, 45479
ATTACH;FMTTYPE=image/jpeg:https://samba-ruhrgebeat.de/wp-content/uploads/2019/07/DSC_5365_00001-4.jpg
END:VEVENT
BEGIN:VEVENT
DTSTART;TZID=UTC:20250613T150000
DTEND;TZID=UTC:20250613T190000
DTSTAMP:20260421T220543
CREATED:20240522T074504Z
LAST-MODIFIED:20250128T165627Z
UID:1738-1749826800-1749841200@samba-ruhrgebeat.de
SUMMARY:Projekt Weichenstellung: Abschluss- Teamdrumming Universität Duisburg / Essen
DESCRIPTION:Teamdrumming / Teamtrommeln mit 60 Schüler*innen und Studierenden wird der Abschluss des aktuellen Projektes Weichenstellung der \nUni Duisburg/Essen im Glaspavillon der Uni Essen musikalisch & rhythmisch gefeiert. \nUnter Einbeziehung des Publikums (Organisator*innen der UDE & Eltern der teilnehmenden Kinder) wird eine große Abschluss-Session \nmit 100 kleinen und großen Trommler*innen veranstaltet.
URL:https://samba-ruhrgebeat.de/event/projekt-weichenstellung/
LOCATION:Theaterpavillon im Grugapark\, Essen
ATTACH;FMTTYPE=image/jpeg:https://samba-ruhrgebeat.de/wp-content/uploads/2020/02/ThomasKahle-Percussion.jpg
END:VEVENT
BEGIN:VEVENT
DTSTART;TZID=UTC:20250618T110000
DTEND;TZID=UTC:20250618T150000
DTSTAMP:20260421T220543
CREATED:20250519T134712Z
LAST-MODIFIED:20250519T134712Z
UID:2027-1750244400-1750258800@samba-ruhrgebeat.de
SUMMARY:Team- Trommeln Alice Salomon Berufskolleg\, Bochum
DESCRIPTION:Mit 4 Erzieher*innen – Klassen werde ich an 2 Workshop-Tagen ein gemeinsames Stück für ca. 70 Teilnehmende erarbeiten\, \nwelches am 20.06. aufgeführt wird. Funky Drummers mit Cajons\, Djembes\, Congas und Kleinpercussion! \n 
URL:https://samba-ruhrgebeat.de/event/team-trommeln-alice-salomon-berufskolleg-bochum/
LOCATION:Alice Salomon Berufskolleg\, Fahrendellerstr.\, 44787 Bochum
END:VEVENT
BEGIN:VEVENT
DTSTART;TZID=UTC:20250620T090000
DTEND;TZID=UTC:20250620T140000
DTSTAMP:20260421T220543
CREATED:20250519T134857Z
LAST-MODIFIED:20250519T134857Z
UID:2030-1750410000-1750428000@samba-ruhrgebeat.de
SUMMARY:Team - Trommeln Alice Salomon Berufskolleg\, Bochum
DESCRIPTION:Mit 4 Erzieher*innen – Klassen werde ich an 2 Workshop-Tagen ein gemeinsames Stück für ca. 70 Teilnehmende erarbeiten\, \nwelches am 20.06. aufgeführt wird. Funky Drummers mit Cajons\, Djembes\, Congas und Kleinpercussion!
URL:https://samba-ruhrgebeat.de/event/team-trommeln-alice-salomon-berufskolleg-bochum-2/
LOCATION:Alice Salomon Berufskolleg\, Fahrendellerstr.\, 44787 Bochum
END:VEVENT
BEGIN:VEVENT
DTSTART;TZID=UTC:20250623T100000
DTEND;TZID=UTC:20250623T133000
DTSTAMP:20260421T220543
CREATED:20250521T165752Z
LAST-MODIFIED:20250521T165752Z
UID:2037-1750672800-1750685400@samba-ruhrgebeat.de
SUMMARY:Team- Trommeln: Max Planck Gymnasium Duisburg
DESCRIPTION:Mit der gesamten 7. Stufe des Max Planck Gymnasiums in Duisburg\, mit Schülern und Lehrern entsteht ein Samba-Trommel-Stück \nwie in den Sambaschulen Rio de Janeiros\, mit 80 Trommler*innen!
URL:https://samba-ruhrgebeat.de/event/team-trommeln-max-planck-gymnasium-duisburg/
LOCATION:Max Planck Gymnasium\, Werner-Wild-Straße 12\, 47137 Duisburg
END:VEVENT
BEGIN:VEVENT
DTSTART;TZID=UTC:20250625T093000
DTEND;TZID=UTC:20250625T110000
DTSTAMP:20260421T220543
CREATED:20230329T094328Z
LAST-MODIFIED:20250521T170231Z
UID:1459-1750843800-1750849200@samba-ruhrgebeat.de
SUMMARY:> Samba Trommelprojekt: Kultur & Schule an der Rahmstr. / Essen
DESCRIPTION:Trommelprojekte stehen hier exemplarisch einmal im Monat\, finden aber wöchentlich statt! Ab dem 4. Schuljahr…
URL:https://samba-ruhrgebeat.de/event/kultur-schule-an-der-rahmstr-essen-cajon-trommelprojekt/
LOCATION:Schule an der Rahmstr.\, Essen
END:VEVENT
BEGIN:VEVENT
DTSTART;TZID=UTC:20250627T173000
DTEND;TZID=UTC:20250627T193000
DTSTAMP:20260421T220543
CREATED:20250215T132825Z
LAST-MODIFIED:20250215T132825Z
UID:1971-1751045400-1751052600@samba-ruhrgebeat.de
SUMMARY:Eltern - Workshop GEKITA - Gelsenkirchen
DESCRIPTION:Mit 40 Eltern von Vorschulkindern gebe ich einen Workshop und ein kleines Konzert für die Kinder.
URL:https://samba-ruhrgebeat.de/event/eltern-workshop-gekita-gelsenkirchen/
LOCATION:GeKita Schulstr. Gelsenkirchen
END:VEVENT
END:VCALENDAR