BEGIN:VCALENDAR
VERSION:2.0
PRODID:-//Samba-RuhrgeBeat.de - ECPv6.0.10//NONSGML v1.0//EN
CALSCALE:GREGORIAN
METHOD:PUBLISH
X-ORIGINAL-URL:https://samba-ruhrgebeat.de
X-WR-CALDESC:Veranstaltungen für Samba-RuhrgeBeat.de
REFRESH-INTERVAL;VALUE=DURATION:PT1H
X-Robots-Tag:noindex
X-PUBLISHED-TTL:PT1H
BEGIN:VTIMEZONE
TZID:UTC
BEGIN:STANDARD
TZOFFSETFROM:+0000
TZOFFSETTO:+0000
TZNAME:UTC
DTSTART:20250101T000000
END:STANDARD
END:VTIMEZONE
BEGIN:VEVENT
DTSTART;TZID=UTC:20250702T163000
DTEND;TZID=UTC:20250702T180000
DTSTAMP:20260421T202307
CREATED:20231019T122234Z
LAST-MODIFIED:20250630T161606Z
UID:1622-1751473800-1751479200@samba-ruhrgebeat.de
SUMMARY:Internationales Samba-Team-Drumming mit 380  EoN Mitarbeiter*Innen in Düsseldorf
DESCRIPTION:Mit der Firma Eon führen wir in Kooperation mit Teamgeist Ruhr ein internationales Samba-Team-Drumming mit 350 Teilnehmer*innen in Düsseldorf  durch! \n 
URL:https://samba-ruhrgebeat.de/event/team-drumming-hrw-in-muelheim/
LOCATION:Maritim Hotel\, Flughafen Düsseldorf\, Düsseldorf
END:VEVENT
BEGIN:VEVENT
DTSTART;TZID=UTC:20250705T173000
DTEND;TZID=UTC:20250705T200000
DTSTAMP:20260421T202307
CREATED:20230206T153928Z
LAST-MODIFIED:20250619T145751Z
UID:1384-1751736600-1751745600@samba-ruhrgebeat.de
SUMMARY:Sambakowski spielt: Marktfest Essen - Schonnebeck
DESCRIPTION:Auf dem Marktfest / Stadteilfest in Essen-Schonnebeck\, 2 Sets auf Bühne!
URL:https://samba-ruhrgebeat.de/event/sambakowski/
LOCATION:Essen Schonnebeck\, Essen
ATTACH;FMTTYPE=image/jpeg:https://samba-ruhrgebeat.de/wp-content/uploads/2021/06/DSC_5471_00001-scaled.jpg
END:VEVENT
BEGIN:VEVENT
DTSTART;TZID=UTC:20250707T100000
DTEND;TZID=UTC:20250707T133000
DTSTAMP:20260421T202307
CREATED:20250521T165953Z
LAST-MODIFIED:20250630T161543Z
UID:2040-1751882400-1751895000@samba-ruhrgebeat.de
SUMMARY:Team-Trommeln: Max-Planck-Gymnasium in Duisburg
DESCRIPTION:Mit der gesamten 8. Stufe des Max Planck Gymnasiums in Duisburg\, mit Schülern und Lehrern entsteht ein Samba-Trommel-Stück \nwie in den Sambaschulen Rio de Janeiros\, mit 80 – 100  Trommler*innen!
URL:https://samba-ruhrgebeat.de/event/team-trommeln-max-planck-gymnasiums-in-duisburg/
LOCATION:Max Planck Gymnasium\, Werner-Wild-Straße 12\, 47137 Duisburg
END:VEVENT
BEGIN:VEVENT
DTSTART;TZID=UTC:20250708T133000
DTEND;TZID=UTC:20250708T163000
DTSTAMP:20260421T202307
CREATED:20250519T135508Z
LAST-MODIFIED:20250519T135508Z
UID:2034-1751981400-1751992200@samba-ruhrgebeat.de
SUMMARY:Intensivprobe Kultur und Schule: Sambaschule Karl-Ziegler Gymnasium Mülheim an der Ruhr
DESCRIPTION:Probe für den Auftritt am 10. Juli!
URL:https://samba-ruhrgebeat.de/event/intensivprobe-kultur-und-schule-sambaschule-karl-ziegler-gymnasium-muelheim-an-der-ruhr/
LOCATION:Karl Ziegler Gymnasium in Mülheim an der Ruhr
END:VEVENT
BEGIN:VEVENT
DTSTART;TZID=UTC:20250710T180000
DTEND;TZID=UTC:20250710T210000
DTSTAMP:20260421T202307
CREATED:20240202T130748Z
LAST-MODIFIED:20250519T132854Z
UID:1680-1752170400-1752181200@samba-ruhrgebeat.de
SUMMARY:Sambakowski:  Auftritt auf Sommerfest "Augustinum"  in Essen
DESCRIPTION:Sambakowski spielt für die Seniorenresidenz „Augustinum“ in Essen. \nMobil und auf Bühne: Samba-Batucada und Samba-Reggae / Timbalada -Rhythmen. \n 
URL:https://samba-ruhrgebeat.de/event/sambakowski-karnevalsumzug-fuer-die-tafel-oberhausen/
LOCATION:Augustinum\, Renteilichtung\, Essen
ATTACH;FMTTYPE=image/jpeg:https://samba-ruhrgebeat.de/wp-content/uploads/2023/05/DSC_8798_00001-scaled.jpg
END:VEVENT
BEGIN:VEVENT
DTSTART;TZID=UTC:20250714T150000
DTEND;TZID=UTC:20250714T170000
DTSTAMP:20260421T202307
CREATED:20250630T161453Z
LAST-MODIFIED:20250630T161453Z
UID:2085-1752505200-1752512400@samba-ruhrgebeat.de
SUMMARY:Caritas - Peter-Janßen-Haus > Trommelworkshop
DESCRIPTION:Mit Bewohner*innen und den Betreuer*innen der Caritas Wohn- und Werkstätten am Niederrhein. \nWird in 2 Gruppen ein Rhythmus aufgebaut und mit Geräuschinstrumenten etwas für die Sinne getan.
URL:https://samba-ruhrgebeat.de/event/caritas-peter-janssen-haus-trommelworkshop/
LOCATION:Peter-Janßen-Haus – Caritas Wohn- und Werkstätten Niederrhein gGmbH\, Fasanenstraße 1\, 47475 Kamp-Lintfort
END:VEVENT
BEGIN:VEVENT
DTSTART;TZID=UTC:20250727T150000
DTEND;TZID=UTC:20250727T163000
DTSTAMP:20260421T202307
CREATED:20240620T150910Z
LAST-MODIFIED:20250714T184106Z
UID:1796-1753628400-1753633800@samba-ruhrgebeat.de
SUMMARY:Samba-Workshop für Eltern & Kinder (ab 8 J.)
DESCRIPTION:https://www.grugapark.de/erleben/veranstaltungskalender_2/kindertheater_1.de.html \nMit unterschiedlichen großen und kleinen\, original Trommeln aus Brasilien\, wie der Surdo-Basstrommel\, der Agogo-Glocke\, den treibenden Shakern oder den kleinen Tamborimen entsteht innerhalb kürzester Zeit ein mehrstimmiger Trommelrhythmus wie in den Sambaschulen Rio de Janeiros. Zum Abschluss wird es einen gemeinsamen Sambaumzug um die Ballspielwiese geben. \nDas Angebot richtet sich an die ganze Familie. \n 
URL:https://samba-ruhrgebeat.de/event/sommerferienabschluss-im-grugapark-in-essen-2/
LOCATION:Theaterpavillon im Grugapark Essen
ATTACH;FMTTYPE=image/jpeg:https://samba-ruhrgebeat.de/wp-content/uploads/2023/01/Rio-Bateria-Cosme-Velho-16-scaled.jpg
END:VEVENT
END:VCALENDAR