BEGIN:VCALENDAR
VERSION:2.0
PRODID:-//Samba-RuhrgeBeat.de - ECPv6.0.10//NONSGML v1.0//EN
CALSCALE:GREGORIAN
METHOD:PUBLISH
X-ORIGINAL-URL:https://samba-ruhrgebeat.de
X-WR-CALDESC:Veranstaltungen für Samba-RuhrgeBeat.de
REFRESH-INTERVAL;VALUE=DURATION:PT1H
X-Robots-Tag:noindex
X-PUBLISHED-TTL:PT1H
BEGIN:VTIMEZONE
TZID:UTC
BEGIN:STANDARD
TZOFFSETFROM:+0000
TZOFFSETTO:+0000
TZNAME:UTC
DTSTART:20250101T000000
END:STANDARD
END:VTIMEZONE
BEGIN:VEVENT
DTSTART;TZID=UTC:20250826T100000
DTEND;TZID=UTC:20250826T160000
DTSTAMP:20260421T185739
CREATED:20250825T112608Z
LAST-MODIFIED:20250825T112608Z
UID:2105-1756202400-1756224000@samba-ruhrgebeat.de
SUMMARY:Fortbildung für Alltagsbegleiter in Essen
DESCRIPTION:Mit 12 Alltagsbegleiter*innen veranstaltet das Seniorenheim Haus Berge Quartier in Essen eine Fortbildung zum Thema Musik & Rhythmus. \nMit dem hauseigenen Instrumentarium entstehen kleine mehrstimmige Rhythmen (afrik\, Djembe Trommeln und Samba). \nEbenso sollen die TN in die Lage versetzt werden mit den Bewohner*innen einfache Rhythmen umzusetzen.
URL:https://samba-ruhrgebeat.de/event/fortbildung-fuer-alltagsbegleiter-in-essen/
LOCATION:Haus Berge Quartier\, Essen
END:VEVENT
BEGIN:VEVENT
DTSTART;TZID=UTC:20250829T190000
DTEND;TZID=UTC:20250829T210000
DTSTAMP:20260421T185739
CREATED:20230104T155642Z
LAST-MODIFIED:20250825T112735Z
UID:1269-1756494000-1756501200@samba-ruhrgebeat.de
SUMMARY:Sambakowski - Unterricht / Probe - Mülheim an der Ruhr
DESCRIPTION:Samba-Batucada / Rio Samba & Timbalda & Samba Reggae & Latin – Grooves \nFür Trommler*innen der Mittelstufe – fortgeschrittene ! \nGesucht werden Djembe-Trommler*innen und auch DrumSet Spieler*innen\, natürlich auch Trommler*innen Brasil-Percussion Erfahrung! \n 
URL:https://samba-ruhrgebeat.de/event/sambakowski-unterricht-probe/
LOCATION:Samba-Ruhrgebeat / Europa Pavillon\, 45479 Mülheim an der Ruhr\, Am Schloß Broich 34\, Mülheim an der Ruhr\, 45479
END:VEVENT
BEGIN:VEVENT
DTSTART;TZID=UTC:20250830T190000
DTEND;TZID=UTC:20250830T200000
DTSTAMP:20260421T185739
CREATED:20191105T141939Z
LAST-MODIFIED:20250215T130420Z
UID:637-1756580400-1756584000@samba-ruhrgebeat.de
SUMMARY:Sambakowski Auftritt  Heiligenhaus
DESCRIPTION:Sambakowski entert einen 50 igsten Geburtag \nPrivatveranstaltung!
URL:https://samba-ruhrgebeat.de/event/sambkoski-auftritt-workshop-geburtsagsfeier/
END:VEVENT
END:VCALENDAR