BEGIN:VCALENDAR
VERSION:2.0
PRODID:-//Samba-RuhrgeBeat.de - ECPv6.0.10//NONSGML v1.0//EN
CALSCALE:GREGORIAN
METHOD:PUBLISH
X-WR-CALNAME:Samba-RuhrgeBeat.de
X-ORIGINAL-URL:https://samba-ruhrgebeat.de
X-WR-CALDESC:Veranstaltungen für Samba-RuhrgeBeat.de
REFRESH-INTERVAL;VALUE=DURATION:PT1H
X-Robots-Tag:noindex
X-PUBLISHED-TTL:PT1H
BEGIN:VTIMEZONE
TZID:UTC
BEGIN:STANDARD
TZOFFSETFROM:+0000
TZOFFSETTO:+0000
TZNAME:UTC
DTSTART:20250101T000000
END:STANDARD
END:VTIMEZONE
BEGIN:VEVENT
DTSTART;TZID=UTC:20251004T150000
DTEND;TZID=UTC:20251004T163000
DTSTAMP:20260421T155146
CREATED:20250827T173418Z
LAST-MODIFIED:20250827T173418Z
UID:2114-1759590000-1759595400@samba-ruhrgebeat.de
SUMMARY:Privates Familien Event: Trommeln in Mülheim an der Ruhr
DESCRIPTION:Mit einer Familie (14 Teilnehmende) von groß bis klein führe ich einen Workshop mit Djembes\, Cajons und Kleinpercussion durch.
URL:https://samba-ruhrgebeat.de/event/privates-familien-event-trommeln-in-muelheim-an-der-ruhr/
LOCATION:Europa Pavillon MH an der Ruhr https://www.google.de/maps/place/Samba-Ruhrgebeat+%2F+Europa+Pavillon/@51.4273742\,6.871444\,17.5z/data=!4m5!3m4!1s0x0:0xec9175b9b29cf4e6!8m2!3d51.4268353!4d6.8700063?hl=de
END:VEVENT
BEGIN:VEVENT
DTSTART;TZID=UTC:20251029T143000
DTEND;TZID=UTC:20251029T160000
DTSTAMP:20260421T155146
CREATED:20230117T150420Z
LAST-MODIFIED:20251006T125449Z
UID:1360-1761748200-1761753600@samba-ruhrgebeat.de
SUMMARY:Förderturmhaus Zeche Carl Essen
DESCRIPTION:Trommelkurs für Kinder aus Altenessen\, gefördert vom Jugendamt der Stadt Essen.
URL:https://samba-ruhrgebeat.de/event/foerderturmhaus-zeche-carl-11/
LOCATION:Förderturmhaus Zeche Carl \, Essen
ATTACH;FMTTYPE=image/jpeg:https://samba-ruhrgebeat.de/wp-content/uploads/2023/01/Odehekids-3.jpg
END:VEVENT
BEGIN:VEVENT
DTSTART;TZID=UTC:20251031T200000
DTEND;TZID=UTC:20251031T220000
DTSTAMP:20260421T155146
CREATED:20231011T153828Z
LAST-MODIFIED:20250920T114410Z
UID:1610-1761940800-1761948000@samba-ruhrgebeat.de
SUMMARY:The Gominoes in Gelsenkirchen
DESCRIPTION:The Gominoes (laut & mit großem Besteck) um 20 Uhr / Einlass 19 Uhr! Eintritt: Auf Hut!\n\n\n\nPatric Barrabas – Drums/ Sigurd Cordes – Git. Voc. / Marco Engert: Bass / Thomas Kahle: Percussion\n\n\n> Britisk Rock\, Reggae\, Latin-Grooves;\n> Tanzbar und mit deutschen Texten (neu).\n\n\nWas zum Hören:\nhttps://www.youtube.com/watch?v=WBfemUxdANg&list=RDWBfemUxdANg&start_radio=1\nhttps://www.youtube.com/watch?v=fHU2X6OoV1Y&list=RDfHU2X6OoV1Y&start_radio=1
URL:https://samba-ruhrgebeat.de/event/vernissage-sehfest-2023/
LOCATION:Wohnzimmer in Gelsenkirchen\, Wilhelminenstr. 174b\, 45881 Gelsenkirchen
ATTACH;FMTTYPE=image/jpeg:https://samba-ruhrgebeat.de/wp-content/uploads/2021/11/Gominoes-1.jpeg
END:VEVENT
END:VCALENDAR